BEGIN:VCALENDAR
VERSION:2.0
PRODID:-//Special Olympics Hamilton County - Ohio - ECPv6.15.20//NONSGML v1.0//EN
CALSCALE:GREGORIAN
METHOD:PUBLISH
X-WR-CALNAME:Special Olympics Hamilton County - Ohio
X-ORIGINAL-URL:https://www.specialolympics-hc.org
X-WR-CALDESC:Events for Special Olympics Hamilton County - Ohio
REFRESH-INTERVAL;VALUE=DURATION:PT1H
X-Robots-Tag:noindex
X-PUBLISHED-TTL:PT1H
BEGIN:VTIMEZONE
TZID:America/New_York
BEGIN:DAYLIGHT
TZOFFSETFROM:-0500
TZOFFSETTO:-0400
TZNAME:EDT
DTSTART:20230312T070000
END:DAYLIGHT
BEGIN:STANDARD
TZOFFSETFROM:-0400
TZOFFSETTO:-0500
TZNAME:EST
DTSTART:20231105T060000
END:STANDARD
BEGIN:DAYLIGHT
TZOFFSETFROM:-0500
TZOFFSETTO:-0400
TZNAME:EDT
DTSTART:20240310T070000
END:DAYLIGHT
BEGIN:STANDARD
TZOFFSETFROM:-0400
TZOFFSETTO:-0500
TZNAME:EST
DTSTART:20241103T060000
END:STANDARD
BEGIN:DAYLIGHT
TZOFFSETFROM:-0500
TZOFFSETTO:-0400
TZNAME:EDT
DTSTART:20250309T070000
END:DAYLIGHT
BEGIN:STANDARD
TZOFFSETFROM:-0400
TZOFFSETTO:-0500
TZNAME:EST
DTSTART:20251102T060000
END:STANDARD
END:VTIMEZONE
BEGIN:VEVENT
DTSTART;TZID=America/New_York:20240630T163000
DTEND;TZID=America/New_York:20240630T180000
DTSTAMP:20260420T101759
CREATED:20240429T173358Z
LAST-MODIFIED:20240429T173358Z
UID:12779-1719765000-1719770400@www.specialolympics-hc.org
SUMMARY:Competitive Volleyball
DESCRIPTION:
URL:https://www.specialolympics-hc.org/event/competitive-volleyball-2024-06-30/
LOCATION:Stepping Stones\, 5650 Given Road\, Cincinnati\, OH\, 45248\, United States
CATEGORIES:Main Events
END:VEVENT
BEGIN:VEVENT
DTSTART;TZID=America/New_York:20240701T183000
DTEND;TZID=America/New_York:20240701T193000
DTSTAMP:20260420T101759
CREATED:20240229T191108Z
LAST-MODIFIED:20240229T191149Z
UID:12642-1719858600-1719862200@www.specialolympics-hc.org
SUMMARY:Westside Bocce - Session 2
DESCRIPTION:This session is for those individuals who just want to play for fun! 
URL:https://www.specialolympics-hc.org/event/westside-bocce-session-2-2024-07-01/
LOCATION:Kuliga Park\, 6717 Bridgetown Road\, Cincinnati\, OH\, 45248\, United States
CATEGORIES:Main Events
END:VEVENT
BEGIN:VEVENT
DTSTART;TZID=America/New_York:20240708T183000
DTEND;TZID=America/New_York:20240708T193000
DTSTAMP:20260420T101759
CREATED:20240229T191108Z
LAST-MODIFIED:20240229T191149Z
UID:12643-1720463400-1720467000@www.specialolympics-hc.org
SUMMARY:Westside Bocce - Session 2
DESCRIPTION:This session is for those individuals who just want to play for fun! 
URL:https://www.specialolympics-hc.org/event/westside-bocce-session-2-2024-07-08/
LOCATION:Kuliga Park\, 6717 Bridgetown Road\, Cincinnati\, OH\, 45248\, United States
CATEGORIES:Main Events
END:VEVENT
BEGIN:VEVENT
DTSTART;TZID=America/New_York:20240715T183000
DTEND;TZID=America/New_York:20240715T193000
DTSTAMP:20260420T101759
CREATED:20240229T191108Z
LAST-MODIFIED:20240229T191149Z
UID:12644-1721068200-1721071800@www.specialolympics-hc.org
SUMMARY:Westside Bocce - Session 2
DESCRIPTION:This session is for those individuals who just want to play for fun! 
URL:https://www.specialolympics-hc.org/event/westside-bocce-session-2-2024-07-15/
LOCATION:Kuliga Park\, 6717 Bridgetown Road\, Cincinnati\, OH\, 45248\, United States
CATEGORIES:Main Events
END:VEVENT
BEGIN:VEVENT
DTSTART;TZID=America/New_York:20240722T183000
DTEND;TZID=America/New_York:20240722T193000
DTSTAMP:20260420T101759
CREATED:20240229T191108Z
LAST-MODIFIED:20240229T191149Z
UID:12645-1721673000-1721676600@www.specialolympics-hc.org
SUMMARY:Westside Bocce - Session 2
DESCRIPTION:This session is for those individuals who just want to play for fun! 
URL:https://www.specialolympics-hc.org/event/westside-bocce-session-2-2024-07-22/
LOCATION:Kuliga Park\, 6717 Bridgetown Road\, Cincinnati\, OH\, 45248\, United States
CATEGORIES:Main Events
END:VEVENT
BEGIN:VEVENT
DTSTART;TZID=America/New_York:20240729T183000
DTEND;TZID=America/New_York:20240729T193000
DTSTAMP:20260420T101759
CREATED:20240229T191108Z
LAST-MODIFIED:20240229T191149Z
UID:12646-1722277800-1722281400@www.specialolympics-hc.org
SUMMARY:Westside Bocce - Session 2
DESCRIPTION:This session is for those individuals who just want to play for fun! 
URL:https://www.specialolympics-hc.org/event/westside-bocce-session-2-2024-07-29/
LOCATION:Kuliga Park\, 6717 Bridgetown Road\, Cincinnati\, OH\, 45248\, United States
CATEGORIES:Main Events
END:VEVENT
BEGIN:VEVENT
DTSTART;TZID=America/New_York:20240805T183000
DTEND;TZID=America/New_York:20240805T193000
DTSTAMP:20260420T101759
CREATED:20240229T191108Z
LAST-MODIFIED:20240229T191150Z
UID:12647-1722882600-1722886200@www.specialolympics-hc.org
SUMMARY:Westside Bocce - Session 2
DESCRIPTION:This session is for those individuals who just want to play for fun! 
URL:https://www.specialolympics-hc.org/event/westside-bocce-session-2-2024-08-05/
LOCATION:Kuliga Park\, 6717 Bridgetown Road\, Cincinnati\, OH\, 45248\, United States
CATEGORIES:Main Events
END:VEVENT
BEGIN:VEVENT
DTSTART;TZID=America/New_York:20240812T183000
DTEND;TZID=America/New_York:20240812T193000
DTSTAMP:20260420T101759
CREATED:20240229T191108Z
LAST-MODIFIED:20240229T191150Z
UID:12648-1723487400-1723491000@www.specialolympics-hc.org
SUMMARY:Westside Bocce - Session 2
DESCRIPTION:This session is for those individuals who just want to play for fun! 
URL:https://www.specialolympics-hc.org/event/westside-bocce-session-2-2024-08-12/
LOCATION:Kuliga Park\, 6717 Bridgetown Road\, Cincinnati\, OH\, 45248\, United States
CATEGORIES:Main Events
END:VEVENT
BEGIN:VEVENT
DTSTART;TZID=America/New_York:20240819T183000
DTEND;TZID=America/New_York:20240819T193000
DTSTAMP:20260420T101759
CREATED:20240229T191108Z
LAST-MODIFIED:20240229T191158Z
UID:12649-1724092200-1724095800@www.specialolympics-hc.org
SUMMARY:Westside Bocce - Session 2
DESCRIPTION:This session is for those individuals who just want to play for fun! 
URL:https://www.specialolympics-hc.org/event/westside-bocce-session-2-2024-08-19/
LOCATION:Kuliga Park\, 6717 Bridgetown Road\, Cincinnati\, OH\, 45248\, United States
CATEGORIES:Main Events
END:VEVENT
BEGIN:VEVENT
DTSTART;TZID=America/New_York:20240826T183000
DTEND;TZID=America/New_York:20240826T193000
DTSTAMP:20260420T101759
CREATED:20240229T191108Z
LAST-MODIFIED:20240229T191158Z
UID:12650-1724697000-1724700600@www.specialolympics-hc.org
SUMMARY:Westside Bocce - Session 2
DESCRIPTION:This session is for those individuals who just want to play for fun! 
URL:https://www.specialolympics-hc.org/event/westside-bocce-session-2-2024-08-26/
LOCATION:Kuliga Park\, 6717 Bridgetown Road\, Cincinnati\, OH\, 45248\, United States
CATEGORIES:Main Events
END:VEVENT
END:VCALENDAR