BEGIN:VCALENDAR
VERSION:2.0
PRODID:-//Special Olympics Hamilton County - Ohio - ECPv6.15.20//NONSGML v1.0//EN
CALSCALE:GREGORIAN
METHOD:PUBLISH
X-WR-CALNAME:Special Olympics Hamilton County - Ohio
X-ORIGINAL-URL:https://www.specialolympics-hc.org
X-WR-CALDESC:Events for Special Olympics Hamilton County - Ohio
REFRESH-INTERVAL;VALUE=DURATION:PT1H
X-Robots-Tag:noindex
X-PUBLISHED-TTL:PT1H
BEGIN:VTIMEZONE
TZID:America/New_York
BEGIN:DAYLIGHT
TZOFFSETFROM:-0500
TZOFFSETTO:-0400
TZNAME:EDT
DTSTART:20230312T070000
END:DAYLIGHT
BEGIN:STANDARD
TZOFFSETFROM:-0400
TZOFFSETTO:-0500
TZNAME:EST
DTSTART:20231105T060000
END:STANDARD
BEGIN:DAYLIGHT
TZOFFSETFROM:-0500
TZOFFSETTO:-0400
TZNAME:EDT
DTSTART:20240310T070000
END:DAYLIGHT
BEGIN:STANDARD
TZOFFSETFROM:-0400
TZOFFSETTO:-0500
TZNAME:EST
DTSTART:20241103T060000
END:STANDARD
BEGIN:DAYLIGHT
TZOFFSETFROM:-0500
TZOFFSETTO:-0400
TZNAME:EDT
DTSTART:20250309T070000
END:DAYLIGHT
BEGIN:STANDARD
TZOFFSETFROM:-0400
TZOFFSETTO:-0500
TZNAME:EST
DTSTART:20251102T060000
END:STANDARD
END:VTIMEZONE
BEGIN:VEVENT
DTSTART;TZID=America/New_York:20240613T170000
DTEND;TZID=America/New_York:20240613T183000
DTSTAMP:20260420T064054
CREATED:20240429T172729Z
LAST-MODIFIED:20240429T172729Z
UID:12727-1718298000-1718303400@www.specialolympics-hc.org
SUMMARY:YMCA Pickleball
DESCRIPTION:
URL:https://www.specialolympics-hc.org/event/ymca-pickleball-2024-06-13/
LOCATION:Powell Crosley YMCA
CATEGORIES:Main Events
END:VEVENT
END:VCALENDAR