BEGIN:VCALENDAR
VERSION:2.0
PRODID:-//Special Olympics Hamilton County - Ohio - ECPv6.15.20//NONSGML v1.0//EN
CALSCALE:GREGORIAN
METHOD:PUBLISH
X-WR-CALNAME:Special Olympics Hamilton County - Ohio
X-ORIGINAL-URL:https://www.specialolympics-hc.org
X-WR-CALDESC:Events for Special Olympics Hamilton County - Ohio
REFRESH-INTERVAL;VALUE=DURATION:PT1H
X-Robots-Tag:noindex
X-PUBLISHED-TTL:PT1H
BEGIN:VTIMEZONE
TZID:America/New_York
BEGIN:DAYLIGHT
TZOFFSETFROM:-0500
TZOFFSETTO:-0400
TZNAME:EDT
DTSTART:20230312T070000
END:DAYLIGHT
BEGIN:STANDARD
TZOFFSETFROM:-0400
TZOFFSETTO:-0500
TZNAME:EST
DTSTART:20231105T060000
END:STANDARD
BEGIN:DAYLIGHT
TZOFFSETFROM:-0500
TZOFFSETTO:-0400
TZNAME:EDT
DTSTART:20240310T070000
END:DAYLIGHT
BEGIN:STANDARD
TZOFFSETFROM:-0400
TZOFFSETTO:-0500
TZNAME:EST
DTSTART:20241103T060000
END:STANDARD
BEGIN:DAYLIGHT
TZOFFSETFROM:-0500
TZOFFSETTO:-0400
TZNAME:EDT
DTSTART:20250309T070000
END:DAYLIGHT
BEGIN:STANDARD
TZOFFSETFROM:-0400
TZOFFSETTO:-0500
TZNAME:EST
DTSTART:20251102T060000
END:STANDARD
END:VTIMEZONE
BEGIN:VEVENT
DTSTART;TZID=America/New_York:20240512T120000
DTEND;TZID=America/New_York:20240512T130000
DTSTAMP:20260420T053949
CREATED:20240429T173134Z
LAST-MODIFIED:20240429T173134Z
UID:12741-1715515200-1715518800@www.specialolympics-hc.org
SUMMARY:Gymnastics Group 1
DESCRIPTION:
URL:https://www.specialolympics-hc.org/event/gymnastics-group-1-2024-05-12/
LOCATION:Westside Academy of Gymnastics\, 5775 Filview Circle\, Cincinnati\, OH\, 45248\, United States
CATEGORIES:Main Events
END:VEVENT
BEGIN:VEVENT
DTSTART;TZID=America/New_York:20240512T130000
DTEND;TZID=America/New_York:20240512T140000
DTSTAMP:20260420T053949
CREATED:20240429T173240Z
LAST-MODIFIED:20240429T173240Z
UID:12756-1715518800-1715522400@www.specialolympics-hc.org
SUMMARY:Gymnastics Group 2
DESCRIPTION:
URL:https://www.specialolympics-hc.org/event/gymnastics-group-2-2024-05-12/
LOCATION:Westside Academy of Gymnastics\, 5775 Filview Circle\, Cincinnati\, OH\, 45248\, United States
CATEGORIES:Main Events
END:VEVENT
BEGIN:VEVENT
DTSTART;TZID=America/New_York:20240512T163000
DTEND;TZID=America/New_York:20240512T180000
DTSTAMP:20260420T053949
CREATED:20240429T173358Z
LAST-MODIFIED:20240429T173358Z
UID:12771-1715531400-1715536800@www.specialolympics-hc.org
SUMMARY:Competitive Volleyball
DESCRIPTION:
URL:https://www.specialolympics-hc.org/event/competitive-volleyball-2024-05-12/
LOCATION:Stepping Stones\, 5650 Given Road\, Cincinnati\, OH\, 45248\, United States
CATEGORIES:Main Events
END:VEVENT
END:VCALENDAR