BEGIN:VCALENDAR
VERSION:2.0
PRODID:-//Special Olympics Hamilton County - Ohio - ECPv6.15.20//NONSGML v1.0//EN
CALSCALE:GREGORIAN
METHOD:PUBLISH
X-ORIGINAL-URL:https://www.specialolympics-hc.org
X-WR-CALDESC:Events for Special Olympics Hamilton County - Ohio
REFRESH-INTERVAL;VALUE=DURATION:PT1H
X-Robots-Tag:noindex
X-PUBLISHED-TTL:PT1H
BEGIN:VTIMEZONE
TZID:America/New_York
BEGIN:DAYLIGHT
TZOFFSETFROM:-0500
TZOFFSETTO:-0400
TZNAME:EDT
DTSTART:20230312T070000
END:DAYLIGHT
BEGIN:STANDARD
TZOFFSETFROM:-0400
TZOFFSETTO:-0500
TZNAME:EST
DTSTART:20231105T060000
END:STANDARD
BEGIN:DAYLIGHT
TZOFFSETFROM:-0500
TZOFFSETTO:-0400
TZNAME:EDT
DTSTART:20240310T070000
END:DAYLIGHT
BEGIN:STANDARD
TZOFFSETFROM:-0400
TZOFFSETTO:-0500
TZNAME:EST
DTSTART:20241103T060000
END:STANDARD
BEGIN:DAYLIGHT
TZOFFSETFROM:-0500
TZOFFSETTO:-0400
TZNAME:EDT
DTSTART:20250309T070000
END:DAYLIGHT
BEGIN:STANDARD
TZOFFSETFROM:-0400
TZOFFSETTO:-0500
TZNAME:EST
DTSTART:20251102T060000
END:STANDARD
END:VTIMEZONE
BEGIN:VEVENT
DTSTART;TZID=America/New_York:20240408T180000
DTEND;TZID=America/New_York:20240408T200000
DTSTAMP:20260420T053136
CREATED:20240229T191843Z
LAST-MODIFIED:20240229T191843Z
UID:12676-1712599200-1712606400@www.specialolympics-hc.org
SUMMARY:Western Bowl
DESCRIPTION:
URL:https://www.specialolympics-hc.org/event/western-bowl/
LOCATION:Western Bowl\, 6383 Glenway Ave\, Cincinnati\, OH\, 45211\, United States
CATEGORIES:Main Events
END:VEVENT
BEGIN:VEVENT
DTSTART;TZID=America/New_York:20240408T183000
DTEND;TZID=America/New_York:20240408T193000
DTSTAMP:20260420T053136
CREATED:20240229T190314Z
LAST-MODIFIED:20240229T190850Z
UID:12619-1712601000-1712604600@www.specialolympics-hc.org
SUMMARY:Westside Bocce - Session 1
DESCRIPTION:This session is for those individuals interested qualifying for Regionals (May 4) and State Summer Games (June 28-30). This is a commitment so please don’t sign up if you know you will miss practices or the above competition dates. 
URL:https://www.specialolympics-hc.org/event/westside-bocce-session-1-2024-04-08/
LOCATION:Margaret B. Rost School\, 5858 Bridgetown Road\, Cincinnati\, OH\, 45248\, United States
CATEGORIES:Main Events
END:VEVENT
END:VCALENDAR