BEGIN:VCALENDAR
VERSION:2.0
PRODID:-//Special Olympics Hamilton County - Ohio - ECPv6.15.20//NONSGML v1.0//EN
CALSCALE:GREGORIAN
METHOD:PUBLISH
X-WR-CALNAME:Special Olympics Hamilton County - Ohio
X-ORIGINAL-URL:https://www.specialolympics-hc.org
X-WR-CALDESC:Events for Special Olympics Hamilton County - Ohio
REFRESH-INTERVAL;VALUE=DURATION:PT1H
X-Robots-Tag:noindex
X-PUBLISHED-TTL:PT1H
BEGIN:VTIMEZONE
TZID:America/New_York
BEGIN:DAYLIGHT
TZOFFSETFROM:-0500
TZOFFSETTO:-0400
TZNAME:EDT
DTSTART:20230312T070000
END:DAYLIGHT
BEGIN:STANDARD
TZOFFSETFROM:-0400
TZOFFSETTO:-0500
TZNAME:EST
DTSTART:20231105T060000
END:STANDARD
BEGIN:DAYLIGHT
TZOFFSETFROM:-0500
TZOFFSETTO:-0400
TZNAME:EDT
DTSTART:20240310T070000
END:DAYLIGHT
BEGIN:STANDARD
TZOFFSETFROM:-0400
TZOFFSETTO:-0500
TZNAME:EST
DTSTART:20241103T060000
END:STANDARD
BEGIN:DAYLIGHT
TZOFFSETFROM:-0500
TZOFFSETTO:-0400
TZNAME:EDT
DTSTART:20250309T070000
END:DAYLIGHT
BEGIN:STANDARD
TZOFFSETFROM:-0400
TZOFFSETTO:-0500
TZNAME:EST
DTSTART:20251102T060000
END:STANDARD
END:VTIMEZONE
BEGIN:VEVENT
DTSTART;VALUE=DATE:20240224
DTEND;VALUE=DATE:20240226
DTSTAMP:20260420T101646
CREATED:20231109T192736Z
LAST-MODIFIED:20231109T192736Z
UID:12453-1708732800-1708905599@www.specialolympics-hc.org
SUMMARY:Winter Games
DESCRIPTION:
URL:https://www.specialolympics-hc.org/event/winter-games/
LOCATION:Bowling Green State University
CATEGORIES:Main Events
END:VEVENT
BEGIN:VEVENT
DTSTART;TZID=America/New_York:20240224T103000
DTEND;TZID=America/New_York:20240224T124500
DTSTAMP:20260420T101646
CREATED:20230918T193544Z
LAST-MODIFIED:20240105T200840Z
UID:12223-1708770600-1708778700@www.specialolympics-hc.org
SUMMARY:Xavier Swimming Practice
DESCRIPTION:
URL:https://www.specialolympics-hc.org/event/xavier-swimming-practice-2024-02-24/
LOCATION:Xavier University\, 3800 Victory Parkway\, Cincinnati\, OH\, 45207\, United States
CATEGORIES:Main Events
END:VEVENT
BEGIN:VEVENT
DTSTART;TZID=America/New_York:20240224T120000
DTEND;TZID=America/New_York:20240224T130000
DTSTAMP:20260420T101646
CREATED:20240105T191559Z
LAST-MODIFIED:20240105T191559Z
UID:12508-1708776000-1708779600@www.specialolympics-hc.org
SUMMARY:Mayerson JCC Powerlifting
DESCRIPTION:
URL:https://www.specialolympics-hc.org/event/mayerson-jcc-powerlifting-2024-02-24/
LOCATION:Mayerson Jewish Community Center\, 8485 Ridge Road\, Cincinnati\, OH\, 45236\, United States
CATEGORIES:Main Events
END:VEVENT
BEGIN:VEVENT
DTSTART;TZID=America/New_York:20240224T160000
DTEND;TZID=America/New_York:20240224T180000
DTSTAMP:20260420T101646
CREATED:20230918T194018Z
LAST-MODIFIED:20240105T201453Z
UID:12242-1708790400-1708797600@www.specialolympics-hc.org
SUMMARY:Oak Hills Swimming
DESCRIPTION:
URL:https://www.specialolympics-hc.org/event/oak-hills-swimming-2024-02-24/
LOCATION:Oak Hills High School\, 3200 Ebeneezer Road\, Cincinnati\, OH\, 45248\, United States
CATEGORIES:Main Events
END:VEVENT
END:VCALENDAR