BEGIN:VCALENDAR
VERSION:2.0
PRODID:-//Special Olympics Hamilton County - Ohio - ECPv6.15.20//NONSGML v1.0//EN
CALSCALE:GREGORIAN
METHOD:PUBLISH
X-ORIGINAL-URL:https://www.specialolympics-hc.org
X-WR-CALDESC:Events for Special Olympics Hamilton County - Ohio
REFRESH-INTERVAL;VALUE=DURATION:PT1H
X-Robots-Tag:noindex
X-PUBLISHED-TTL:PT1H
BEGIN:VTIMEZONE
TZID:America/New_York
BEGIN:DAYLIGHT
TZOFFSETFROM:-0500
TZOFFSETTO:-0400
TZNAME:EDT
DTSTART:20230312T070000
END:DAYLIGHT
BEGIN:STANDARD
TZOFFSETFROM:-0400
TZOFFSETTO:-0500
TZNAME:EST
DTSTART:20231105T060000
END:STANDARD
BEGIN:DAYLIGHT
TZOFFSETFROM:-0500
TZOFFSETTO:-0400
TZNAME:EDT
DTSTART:20240310T070000
END:DAYLIGHT
BEGIN:STANDARD
TZOFFSETFROM:-0400
TZOFFSETTO:-0500
TZNAME:EST
DTSTART:20241103T060000
END:STANDARD
BEGIN:DAYLIGHT
TZOFFSETFROM:-0500
TZOFFSETTO:-0400
TZNAME:EDT
DTSTART:20250309T070000
END:DAYLIGHT
BEGIN:STANDARD
TZOFFSETFROM:-0400
TZOFFSETTO:-0500
TZNAME:EST
DTSTART:20251102T060000
END:STANDARD
END:VTIMEZONE
BEGIN:VEVENT
DTSTART;TZID=America/New_York:20240302T120000
DTEND;TZID=America/New_York:20240302T130000
DTSTAMP:20260422T041941
CREATED:20240105T191559Z
LAST-MODIFIED:20240105T191559Z
UID:12509-1709380800-1709384400@www.specialolympics-hc.org
SUMMARY:Mayerson JCC Powerlifting
DESCRIPTION:
URL:https://www.specialolympics-hc.org/event/mayerson-jcc-powerlifting-2024-03-02/
LOCATION:Mayerson Jewish Community Center\, 8485 Ridge Road\, Cincinnati\, OH\, 45236\, United States
CATEGORIES:Main Events
END:VEVENT
BEGIN:VEVENT
DTSTART;TZID=America/New_York:20240303T170000
DTEND;TZID=America/New_York:20240303T180000
DTSTAMP:20260422T041941
CREATED:20240105T184956Z
LAST-MODIFIED:20240105T184956Z
UID:12466-1709485200-1709488800@www.specialolympics-hc.org
SUMMARY:Western Athletic Club Tennis
DESCRIPTION:
URL:https://www.specialolympics-hc.org/event/western-athletic-club-tennis-2-2024-03-03/
LOCATION:Western Tennis and Fitness Club\, 5490 Muddy Creek Road\, Cincinnati\, OH\, 45238\, United States
CATEGORIES:Main Events
END:VEVENT
BEGIN:VEVENT
DTSTART;TZID=America/New_York:20240305T170000
DTEND;TZID=America/New_York:20240305T180000
DTSTAMP:20260422T041941
CREATED:20240105T191228Z
LAST-MODIFIED:20240105T191228Z
UID:12484-1709658000-1709661600@www.specialolympics-hc.org
SUMMARY:West Chester Powerlifting
DESCRIPTION:
URL:https://www.specialolympics-hc.org/event/west-chester-powerlifting-2024-03-05/
LOCATION:Adamo Fitness\, 4864 Union Center Pavilion\, West Chester\, OH\, 45069\, United States
CATEGORIES:Main Events
END:VEVENT
BEGIN:VEVENT
DTSTART;TZID=America/New_York:20240306T190000
DTEND;TZID=America/New_York:20240306T200000
DTSTAMP:20260422T041941
CREATED:20240229T192509Z
LAST-MODIFIED:20240229T192509Z
UID:12698-1709751600-1709755200@www.specialolympics-hc.org
SUMMARY:Oak Hills Powerlifting
DESCRIPTION:
URL:https://www.specialolympics-hc.org/event/oak-hills-powerlifting/
LOCATION:Oak Hills High School\, 3200 Ebeneezer Road\, Cincinnati\, OH\, 45248\, United States
CATEGORIES:Main Events
END:VEVENT
BEGIN:VEVENT
DTSTART;TZID=America/New_York:20240309T120000
DTEND;TZID=America/New_York:20240309T130000
DTSTAMP:20260422T041941
CREATED:20240105T191559Z
LAST-MODIFIED:20240105T191559Z
UID:12510-1709985600-1709989200@www.specialolympics-hc.org
SUMMARY:Mayerson JCC Powerlifting
DESCRIPTION:
URL:https://www.specialolympics-hc.org/event/mayerson-jcc-powerlifting-2024-03-09/
LOCATION:Mayerson Jewish Community Center\, 8485 Ridge Road\, Cincinnati\, OH\, 45236\, United States
CATEGORIES:Main Events
END:VEVENT
BEGIN:VEVENT
DTSTART;TZID=America/New_York:20240310T170000
DTEND;TZID=America/New_York:20240310T180000
DTSTAMP:20260422T041941
CREATED:20240105T184956Z
LAST-MODIFIED:20240105T184956Z
UID:12467-1710090000-1710093600@www.specialolympics-hc.org
SUMMARY:Western Athletic Club Tennis
DESCRIPTION:
URL:https://www.specialolympics-hc.org/event/western-athletic-club-tennis-2-2024-03-10/
LOCATION:Western Tennis and Fitness Club\, 5490 Muddy Creek Road\, Cincinnati\, OH\, 45238\, United States
CATEGORIES:Main Events
END:VEVENT
BEGIN:VEVENT
DTSTART;TZID=America/New_York:20240311T183000
DTEND;TZID=America/New_York:20240311T193000
DTSTAMP:20260422T041941
CREATED:20240229T190314Z
LAST-MODIFIED:20240229T190850Z
UID:12614-1710181800-1710185400@www.specialolympics-hc.org
SUMMARY:Westside Bocce - Session 1
DESCRIPTION:This session is for those individuals interested qualifying for Regionals (May 4) and State Summer Games (June 28-30). This is a commitment so please don’t sign up if you know you will miss practices or the above competition dates. 
URL:https://www.specialolympics-hc.org/event/westside-bocce-session-1/
LOCATION:Margaret B. Rost School\, 5858 Bridgetown Road\, Cincinnati\, OH\, 45248\, United States
CATEGORIES:Main Events
END:VEVENT
BEGIN:VEVENT
DTSTART;TZID=America/New_York:20240312T170000
DTEND;TZID=America/New_York:20240312T180000
DTSTAMP:20260422T041941
CREATED:20240105T191228Z
LAST-MODIFIED:20240105T191228Z
UID:12485-1710262800-1710266400@www.specialolympics-hc.org
SUMMARY:West Chester Powerlifting
DESCRIPTION:
URL:https://www.specialolympics-hc.org/event/west-chester-powerlifting-2024-03-12/
LOCATION:Adamo Fitness\, 4864 Union Center Pavilion\, West Chester\, OH\, 45069\, United States
CATEGORIES:Main Events
END:VEVENT
BEGIN:VEVENT
DTSTART;TZID=America/New_York:20240313T190000
DTEND;TZID=America/New_York:20240313T200000
DTSTAMP:20260422T041941
CREATED:20240229T192509Z
LAST-MODIFIED:20240229T192509Z
UID:12700-1710356400-1710360000@www.specialolympics-hc.org
SUMMARY:Oak Hills Powerlifting
DESCRIPTION:
URL:https://www.specialolympics-hc.org/event/oak-hills-powerlifting-2024-03-13/
LOCATION:Oak Hills High School\, 3200 Ebeneezer Road\, Cincinnati\, OH\, 45248\, United States
CATEGORIES:Main Events
END:VEVENT
BEGIN:VEVENT
DTSTART;TZID=America/New_York:20240316T120000
DTEND;TZID=America/New_York:20240316T130000
DTSTAMP:20260422T041941
CREATED:20240105T191709Z
LAST-MODIFIED:20240105T191709Z
UID:12511-1710590400-1710594000@www.specialolympics-hc.org
SUMMARY:Mayerson JCC Powerlifting
DESCRIPTION:
URL:https://www.specialolympics-hc.org/event/mayerson-jcc-powerlifting-2/
LOCATION:Mayerson Jewish Community Center\, 8485 Ridge Road\, Cincinnati\, OH\, 45236\, United States
CATEGORIES:Main Events
END:VEVENT
BEGIN:VEVENT
DTSTART;TZID=America/New_York:20240317T170000
DTEND;TZID=America/New_York:20240317T180000
DTSTAMP:20260422T041941
CREATED:20240105T184956Z
LAST-MODIFIED:20240105T184956Z
UID:12468-1710694800-1710698400@www.specialolympics-hc.org
SUMMARY:Western Athletic Club Tennis
DESCRIPTION:
URL:https://www.specialolympics-hc.org/event/western-athletic-club-tennis-2-2024-03-17/
LOCATION:Western Tennis and Fitness Club\, 5490 Muddy Creek Road\, Cincinnati\, OH\, 45238\, United States
CATEGORIES:Main Events
END:VEVENT
BEGIN:VEVENT
DTSTART;TZID=America/New_York:20240318T183000
DTEND;TZID=America/New_York:20240318T193000
DTSTAMP:20260422T041941
CREATED:20240229T190314Z
LAST-MODIFIED:20240229T190850Z
UID:12616-1710786600-1710790200@www.specialolympics-hc.org
SUMMARY:Westside Bocce - Session 1
DESCRIPTION:This session is for those individuals interested qualifying for Regionals (May 4) and State Summer Games (June 28-30). This is a commitment so please don’t sign up if you know you will miss practices or the above competition dates. 
URL:https://www.specialolympics-hc.org/event/westside-bocce-session-1-2024-03-18/
LOCATION:Margaret B. Rost School\, 5858 Bridgetown Road\, Cincinnati\, OH\, 45248\, United States
CATEGORIES:Main Events
END:VEVENT
BEGIN:VEVENT
DTSTART;TZID=America/New_York:20240319T170000
DTEND;TZID=America/New_York:20240319T180000
DTSTAMP:20260422T041941
CREATED:20240105T191228Z
LAST-MODIFIED:20240105T191228Z
UID:12486-1710867600-1710871200@www.specialolympics-hc.org
SUMMARY:West Chester Powerlifting
DESCRIPTION:
URL:https://www.specialolympics-hc.org/event/west-chester-powerlifting-2024-03-19/
LOCATION:Adamo Fitness\, 4864 Union Center Pavilion\, West Chester\, OH\, 45069\, United States
CATEGORIES:Main Events
END:VEVENT
BEGIN:VEVENT
DTSTART;TZID=America/New_York:20240320T190000
DTEND;TZID=America/New_York:20240320T200000
DTSTAMP:20260422T041941
CREATED:20240229T192509Z
LAST-MODIFIED:20240229T192509Z
UID:12701-1710961200-1710964800@www.specialolympics-hc.org
SUMMARY:Oak Hills Powerlifting
DESCRIPTION:
URL:https://www.specialolympics-hc.org/event/oak-hills-powerlifting-2024-03-20/
LOCATION:Oak Hills High School\, 3200 Ebeneezer Road\, Cincinnati\, OH\, 45248\, United States
CATEGORIES:Main Events
END:VEVENT
BEGIN:VEVENT
DTSTART;TZID=America/New_York:20240323T120000
DTEND;TZID=America/New_York:20240323T130000
DTSTAMP:20260422T041941
CREATED:20240105T191709Z
LAST-MODIFIED:20240105T191709Z
UID:12513-1711195200-1711198800@www.specialolympics-hc.org
SUMMARY:Mayerson JCC Powerlifting
DESCRIPTION:
URL:https://www.specialolympics-hc.org/event/mayerson-jcc-powerlifting-2-2024-03-23/
LOCATION:Mayerson Jewish Community Center\, 8485 Ridge Road\, Cincinnati\, OH\, 45236\, United States
CATEGORIES:Main Events
END:VEVENT
BEGIN:VEVENT
DTSTART;TZID=America/New_York:20240324T170000
DTEND;TZID=America/New_York:20240324T180000
DTSTAMP:20260422T041941
CREATED:20240105T184956Z
LAST-MODIFIED:20240105T184956Z
UID:12469-1711299600-1711303200@www.specialolympics-hc.org
SUMMARY:Western Athletic Club Tennis
DESCRIPTION:
URL:https://www.specialolympics-hc.org/event/western-athletic-club-tennis-2-2024-03-24/
LOCATION:Western Tennis and Fitness Club\, 5490 Muddy Creek Road\, Cincinnati\, OH\, 45238\, United States
CATEGORIES:Main Events
END:VEVENT
BEGIN:VEVENT
DTSTART;TZID=America/New_York:20240325T183000
DTEND;TZID=America/New_York:20240325T193000
DTSTAMP:20260422T041941
CREATED:20240229T190314Z
LAST-MODIFIED:20240229T190850Z
UID:12617-1711391400-1711395000@www.specialolympics-hc.org
SUMMARY:Westside Bocce - Session 1
DESCRIPTION:This session is for those individuals interested qualifying for Regionals (May 4) and State Summer Games (June 28-30). This is a commitment so please don’t sign up if you know you will miss practices or the above competition dates. 
URL:https://www.specialolympics-hc.org/event/westside-bocce-session-1-2024-03-25/
LOCATION:Margaret B. Rost School\, 5858 Bridgetown Road\, Cincinnati\, OH\, 45248\, United States
CATEGORIES:Main Events
END:VEVENT
BEGIN:VEVENT
DTSTART;TZID=America/New_York:20240326T170000
DTEND;TZID=America/New_York:20240326T180000
DTSTAMP:20260422T041941
CREATED:20240105T191228Z
LAST-MODIFIED:20240105T191228Z
UID:12487-1711472400-1711476000@www.specialolympics-hc.org
SUMMARY:West Chester Powerlifting
DESCRIPTION:
URL:https://www.specialolympics-hc.org/event/west-chester-powerlifting-2024-03-26/
LOCATION:Adamo Fitness\, 4864 Union Center Pavilion\, West Chester\, OH\, 45069\, United States
CATEGORIES:Main Events
END:VEVENT
BEGIN:VEVENT
DTSTART;TZID=America/New_York:20240326T170000
DTEND;TZID=America/New_York:20240326T180000
DTSTAMP:20260422T041941
CREATED:20240229T192026Z
LAST-MODIFIED:20240229T192026Z
UID:12683-1711472400-1711476000@www.specialolympics-hc.org
SUMMARY:Eastside Bocce
DESCRIPTION:
URL:https://www.specialolympics-hc.org/event/eastside-bocce/
LOCATION:Montgomery Presbyterian Church\, 9994 Zig Zag Road\, Cincinnati\, OH\, 45242\, United States
CATEGORIES:Main Events
END:VEVENT
BEGIN:VEVENT
DTSTART;TZID=America/New_York:20240327T190000
DTEND;TZID=America/New_York:20240327T200000
DTSTAMP:20260422T041941
CREATED:20240229T192509Z
LAST-MODIFIED:20240229T192509Z
UID:12702-1711566000-1711569600@www.specialolympics-hc.org
SUMMARY:Oak Hills Powerlifting
DESCRIPTION:
URL:https://www.specialolympics-hc.org/event/oak-hills-powerlifting-2024-03-27/
LOCATION:Oak Hills High School\, 3200 Ebeneezer Road\, Cincinnati\, OH\, 45248\, United States
CATEGORIES:Main Events
END:VEVENT
BEGIN:VEVENT
DTSTART;TZID=America/New_York:20240330T120000
DTEND;TZID=America/New_York:20240330T130000
DTSTAMP:20260422T041941
CREATED:20240105T191709Z
LAST-MODIFIED:20240105T191709Z
UID:12514-1711800000-1711803600@www.specialolympics-hc.org
SUMMARY:Mayerson JCC Powerlifting
DESCRIPTION:
URL:https://www.specialolympics-hc.org/event/mayerson-jcc-powerlifting-2-2024-03-30/
LOCATION:Mayerson Jewish Community Center\, 8485 Ridge Road\, Cincinnati\, OH\, 45236\, United States
CATEGORIES:Main Events
END:VEVENT
BEGIN:VEVENT
DTSTART;TZID=America/New_York:20240331T120000
DTEND;TZID=America/New_York:20240331T130000
DTSTAMP:20260422T041941
CREATED:20240429T173134Z
LAST-MODIFIED:20240429T173134Z
UID:12734-1711886400-1711890000@www.specialolympics-hc.org
SUMMARY:Gymnastics Group 1
DESCRIPTION:
URL:https://www.specialolympics-hc.org/event/gymnastics-group-1/
LOCATION:Westside Academy of Gymnastics\, 5775 Filview Circle\, Cincinnati\, OH\, 45248\, United States
CATEGORIES:Main Events
END:VEVENT
BEGIN:VEVENT
DTSTART;TZID=America/New_York:20240331T130000
DTEND;TZID=America/New_York:20240331T140000
DTSTAMP:20260422T041941
CREATED:20240429T173240Z
LAST-MODIFIED:20240429T173240Z
UID:12749-1711890000-1711893600@www.specialolympics-hc.org
SUMMARY:Gymnastics Group 2
DESCRIPTION:
URL:https://www.specialolympics-hc.org/event/gymnastics-group-2/
LOCATION:Westside Academy of Gymnastics\, 5775 Filview Circle\, Cincinnati\, OH\, 45248\, United States
CATEGORIES:Main Events
END:VEVENT
BEGIN:VEVENT
DTSTART;TZID=America/New_York:20240331T163000
DTEND;TZID=America/New_York:20240331T180000
DTSTAMP:20260422T041941
CREATED:20240429T173358Z
LAST-MODIFIED:20240429T173358Z
UID:12761-1711902600-1711908000@www.specialolympics-hc.org
SUMMARY:Competitive Volleyball
DESCRIPTION:
URL:https://www.specialolympics-hc.org/event/competitive-volleyball/
LOCATION:Stepping Stones\, 5650 Given Road\, Cincinnati\, OH\, 45248\, United States
CATEGORIES:Main Events
END:VEVENT
BEGIN:VEVENT
DTSTART;TZID=America/New_York:20240331T170000
DTEND;TZID=America/New_York:20240331T180000
DTSTAMP:20260422T041941
CREATED:20240105T184956Z
LAST-MODIFIED:20240105T184956Z
UID:12470-1711904400-1711908000@www.specialolympics-hc.org
SUMMARY:Western Athletic Club Tennis
DESCRIPTION:
URL:https://www.specialolympics-hc.org/event/western-athletic-club-tennis-2-2024-03-31/
LOCATION:Western Tennis and Fitness Club\, 5490 Muddy Creek Road\, Cincinnati\, OH\, 45238\, United States
CATEGORIES:Main Events
END:VEVENT
END:VCALENDAR